BEGIN:VCALENDAR
VERSION:2.0
PRODID:-//MegaphoneNC - ECPv6.15.6//NONSGML v1.0//EN
CALSCALE:GREGORIAN
METHOD:PUBLISH
X-ORIGINAL-URL:https://megaphonenc.com
X-WR-CALDESC:Events for MegaphoneNC
REFRESH-INTERVAL;VALUE=DURATION:PT1H
X-Robots-Tag:noindex
X-PUBLISHED-TTL:PT1H
BEGIN:VTIMEZONE
TZID:Pacific/Easter
BEGIN:STANDARD
TZOFFSETFROM:-0500
TZOFFSETTO:-0600
TZNAME:-06
DTSTART:20250406T030000
END:STANDARD
BEGIN:DAYLIGHT
TZOFFSETFROM:-0600
TZOFFSETTO:-0500
TZNAME:-05
DTSTART:20250907T040000
END:DAYLIGHT
BEGIN:STANDARD
TZOFFSETFROM:-0500
TZOFFSETTO:-0600
TZNAME:-06
DTSTART:20260405T030000
END:STANDARD
BEGIN:DAYLIGHT
TZOFFSETFROM:-0600
TZOFFSETTO:-0500
TZNAME:-05
DTSTART:20260906T040000
END:DAYLIGHT
BEGIN:STANDARD
TZOFFSETFROM:-0500
TZOFFSETTO:-0600
TZNAME:-06
DTSTART:20270404T030000
END:STANDARD
BEGIN:DAYLIGHT
TZOFFSETFROM:-0600
TZOFFSETTO:-0500
TZNAME:-05
DTSTART:20270905T040000
END:DAYLIGHT
END:VTIMEZONE
BEGIN:VEVENT
DTSTART;TZID=Pacific/Easter:20260326T183000
DTEND;TZID=Pacific/Easter:20260326T183000
DTSTAMP:20260419T105301
CREATED:20260319T183515Z
LAST-MODIFIED:20260319T183515Z
UID:1431-1774549800-1774549800@megaphonenc.com
SUMMARY:Creators at the NCGA
DESCRIPTION:Join Influence NC on March 26th for ✨Creators at the NCGA✨ \nThis will be an opportunity to learn more about creating content on NC based political topics\, engaging with creators\, and going to the NCGA.
URL:https://megaphonenc.com/event/creators-at-the-ncga/
LOCATION:Zoom
END:VEVENT
BEGIN:VEVENT
DTSTART;TZID=Pacific/Easter:20260328T093000
DTEND;TZID=Pacific/Easter:20260328T113000
DTSTAMP:20260419T105301
CREATED:20260323T142351Z
LAST-MODIFIED:20260323T142351Z
UID:1470-1774690200-1774697400@megaphonenc.com
SUMMARY:No Kings: Apex
DESCRIPTION:We have the power and are claiming it together. No Thrones. No Crowns. No Kings. \nWhat began in 2025 as a single day of defiance has become a sustained national resistance to tyranny\, spreading from small towns to city centers and across every community determined to defend democracy. Our peaceful movement is bigger than ever. \nWhen our families are under attack and costs are pushing people to the brink\, silence is not an option. We will defend ourselves and our communities against this administration’s unjust and cruel acts of violence. \nOn March 28th\, rise up\, take to the streets\, and say it loud: no thrones\, no crowns\, no kings. We’re not watching history happen—we’re making it. Join us.
URL:https://megaphonenc.com/event/no-kings-apex/
LOCATION:Beaver Creek Commons\, Highway 55 and Beaver Creek Commons Drive\, Apex\, NC\, 27502\, United States
END:VEVENT
BEGIN:VEVENT
DTSTART;TZID=Pacific/Easter:20260328T100000
DTEND;TZID=Pacific/Easter:20260328T120000
DTSTAMP:20260419T105301
CREATED:20260323T142701Z
LAST-MODIFIED:20260323T142701Z
UID:1473-1774692000-1774699200@megaphonenc.com
SUMMARY:No Kings: Wake Forest
DESCRIPTION:We have the power and are claiming it together. No Thrones. No Crowns. No Kings. \nWhat began in 2025 as a single day of defiance has become a sustained national resistance to tyranny\, spreading from small towns to city centers and across every community determined to defend democracy. Our peaceful movement is bigger than ever. \nWhen our families are under attack and costs are pushing people to the brink\, silence is not an option. We will defend ourselves and our communities against this administration’s unjust and cruel acts of violence. \nOn March 28th\, rise up\, take to the streets\, and say it loud: no thrones\, no crowns\, no kings. We’re not watching history happen—we’re making it. Join us
URL:https://megaphonenc.com/event/no-kings-wake-forest/
LOCATION:Centennial Plaza\, 221 Brooks St\, Wake Forest\, NC\, 27587\, United States
END:VEVENT
BEGIN:VEVENT
DTSTART;TZID=Pacific/Easter:20260328T103000
DTEND;TZID=Pacific/Easter:20260328T130000
DTSTAMP:20260419T105301
CREATED:20260319T184830Z
LAST-MODIFIED:20260319T184830Z
UID:1445-1774693800-1774702800@megaphonenc.com
SUMMARY:No Kings\, No Billionaires\, No Business as Usual Rally & March
DESCRIPTION:Ain’t no power like the power of the people ‘cause the power of the people don’t stop! \nJoin a coalition of organizations for Durham’s No Kings 3.0 on March 28. \nMeet at “The Bull” (CCB Plaza: 211 W. Parrish Street) at 10:30-1. We will march from The Bull to “The Leaf” across from the Farmer’s Market. \nBring signs that show that we stand in solidarity with our coalition partners as we so no kings in the USA and workers over billionaires. \nMore info: search for No Kings Durham on Mobilize.
URL:https://megaphonenc.com/event/no-kings-no-billionaires-no-business-as-usual-rally-march/
LOCATION:CCB Plaza\, 211 W. Parrish St\, Durham\, NC\, 27701\, United States
END:VEVENT
BEGIN:VEVENT
DTSTART;TZID=Pacific/Easter:20260328T103000
DTEND;TZID=Pacific/Easter:20260328T130000
DTSTAMP:20260419T105301
CREATED:20260323T141856Z
LAST-MODIFIED:20260323T141856Z
UID:1463-1774693800-1774702800@megaphonenc.com
SUMMARY:No Kings: Durham
DESCRIPTION:Join a coalition of grassroots organizations (Engaged Defenders for Democracy\, Democracy Out Loud! Bull City Indivisible\, League of Women Voters) and unions as we say it loud and say it clear\, No Kings\, No Billionaires\, and No Business as Usual allowed here! \nWe will meet at “The Bull” (CCB Plaza: 211 W. Parrish Street) at 10:30-1. We will march from The Bull to “The Leaf” across from the Farmer’s Market. Bring signs that show that we stand in solidarity with our coalition partners as we so no kings in the USA and workers over billionaires.
URL:https://megaphonenc.com/event/no-kings-durham/
LOCATION:211 W Parrish St\, Durham\, NC\, 27701\, United States
END:VEVENT
BEGIN:VEVENT
DTSTART;TZID=Pacific/Easter:20260328T130000
DTEND;TZID=Pacific/Easter:20260328T150000
DTSTAMP:20260419T105301
CREATED:20260323T141445Z
LAST-MODIFIED:20260323T141445Z
UID:1458-1774702800-1774710000@megaphonenc.com
SUMMARY:No Kings: Raleigh\, NC
DESCRIPTION:We have the power and are claiming it together. No Thrones. No Crowns. No Kings. \nWhat began in 2025 as a single day of defiance has become a sustained national resistance to tyranny\, spreading from small towns to city centers and across every community determined to defend democracy. Our peaceful movement is bigger than ever. \nWhen our families are under attack and costs are pushing people to the brink\, silence is not an option. We will defend ourselves and our communities against this administration’s unjust and cruel acts of violence. \nOn March 28th\, rise up\, take to the streets\, and say it loud: no thrones\, no crowns\, no kings. We’re not watching history happen—we’re making it. Join us.
URL:https://megaphonenc.com/event/no-kings-raleigh-nc/
LOCATION:North Carolina State Capitol\, 1 E Edenton St\, Raleigh\, NC\, 27601\, United States
END:VEVENT
BEGIN:VEVENT
DTSTART;TZID=Pacific/Easter:20260328T130000
DTEND;TZID=Pacific/Easter:20260328T160000
DTSTAMP:20260419T105301
CREATED:20260323T142855Z
LAST-MODIFIED:20260323T142855Z
UID:1476-1774702800-1774713600@megaphonenc.com
SUMMARY:No Kings: Clayton
DESCRIPTION:We have the power and are claiming it together. No Thrones. No Crowns. No Kings. \nWhat began in 2025 as a single day of defiance has become a sustained national resistance to tyranny\, spreading from small towns to city centers and across every community determined to defend democracy. Our peaceful movement is bigger than ever. \nWhen our families are under attack and costs are pushing people to the brink\, silence is not an option. We will defend ourselves and our communities against this administration’s unjust and cruel acts of violence. \nOn March 28th\, rise up\, take to the streets\, and say it loud: no thrones\, no crowns\, no kings. We’re not watching history happen—we’re making it. Join us.
URL:https://megaphonenc.com/event/no-kings-clayton-2/
LOCATION:Clayton Town Square\, 100 W Main St\, Clayton\, NC\, 27520\, United States
END:VEVENT
BEGIN:VEVENT
DTSTART;TZID=Pacific/Easter:20260328T140000
DTEND;TZID=Pacific/Easter:20260328T170000
DTSTAMP:20260419T105301
CREATED:20260319T183744Z
LAST-MODIFIED:20260319T183744Z
UID:1434-1774706400-1774717200@megaphonenc.com
SUMMARY:"What's Tea?": Annual TDOV Cookout
DESCRIPTION:Come join various organizations for their Annual TDOV gathering…’What’s Tea”! ⁠\nIt’s a time for music\, friends\, laughs\, and food in sunny Durham Central Park.⁠\nCalling in all BIPOC trans femmes & Trans People to come eat\, breathe & let your hair down in solidarity.⁠\n⁠\nThough this is a space catering to our Queer/Trans Folks\, all from the community are welcome!⁠\n⁠\nDurham Central Park • Durham\, NC⁠\nSaturday\, March 28\, from 2 pm to 5 pm⁠\nHosted by: @translawcenter\, @officialBLMP\, @lgbtqdurham\, and @ignitekindred⁠\n⁠
URL:https://megaphonenc.com/event/whats-tea-annual-tdov-cookout/
LOCATION:Durham Central Park\, 501 F
END:VEVENT
BEGIN:VEVENT
DTSTART;TZID=Pacific/Easter:20260328T140000
DTEND;TZID=Pacific/Easter:20260328T170000
DTSTAMP:20260419T105301
CREATED:20260323T142122Z
LAST-MODIFIED:20260323T142122Z
UID:1467-1774706400-1774717200@megaphonenc.com
SUMMARY:No Kings: Cary
DESCRIPTION:Cary Indivisible continues to strongly and peacefully protest the mean\, illegal\, immoral\, unconstitutional actions of the authoritarian fascist regime that is run by Trump and his cordon of prostrating sycophants. We will be strong and steady in growing this group of extremely concerned Americans who will not stop protesting these horrible wrongs that are happening in cities and towns across our country. WE ARE GOOD TROUBLE!! WE WILL PREVAIL! \nWhat began in 2025 as a single day of defiance has become a sustained national resistance to tyranny\, spreading from small towns to city centers and across every community determined to defend democracy. Our peaceful movement is bigger than ever. \nWhen our families are under attack and costs are pushing people to the brink\, silence is not an option. We will defend ourselves and our communities against this administration’s unjust and cruel acts of violence. \nOn March 28th\, rise up\, take to the streets\, and say it loud: no thrones\, no crowns\, no kings. We’re not watching history happen—we’re making it. Join us.
URL:https://megaphonenc.com/event/no-kings-cary/
LOCATION:Kildaire Farm Road & Southeast Maynard Road\, 110 SE Maynard Road\, Cary\, NC\, 27511\, United States
END:VEVENT
BEGIN:VEVENT
DTSTART;TZID=Pacific/Easter:20260330T160000
DTEND;TZID=Pacific/Easter:20260330T170000
DTSTAMP:20260419T105301
CREATED:20260323T141653Z
LAST-MODIFIED:20260323T141653Z
UID:1460-1774886400-1774890000@megaphonenc.com
SUMMARY:No to Rate Hikes
DESCRIPTION:Ahead of Duke Energy’s rate hearing\, North Carolina residents are coming together to raise concerns over surging utility bills.
URL:https://megaphonenc.com/event/no-to-rate-hikes/
LOCATION:Halifax Mall\, 300 N Salisbury St\, Raleigh\, NC\, 27603\, United States
END:VEVENT
BEGIN:VEVENT
DTSTART;TZID=Pacific/Easter:20260408T083000
DTEND;TZID=Pacific/Easter:20260408T150000
DTSTAMP:20260419T105301
CREATED:20260319T184351Z
LAST-MODIFIED:20260319T184351Z
UID:1442-1775637000-1775660400@megaphonenc.com
SUMMARY:11th Annual Divine 9 NC Legislative Day
DESCRIPTION:“Forging Our Future Together: Mobilizing for Maximum Impact ” \n\n\n\n\nOur future won’t forge itself. \nJoin NC Black Alliance in Raleigh on April 8 for the 11th Annual Divine 9 NC Legislative Day — “Forging Our Future Together: Mobilizing for Maximum Impact.” \nThis is our coordinated call to action: a chance to stand united and speak directly to state legislative leaders on the issues shaping our communities\, our state\, and our nation. The stakes are high. Our voices are higher. \nShow up informed. Show up aligned. Show up ready to fight for policies that protect and move OUR people forward.
URL:https://megaphonenc.com/event/11th-annual-divine-9-nc-legislative-day/
LOCATION:Halifax Mall\, 300 N Salisbury St\, Raleigh\, NC\, 27603\, United States
END:VEVENT
BEGIN:VEVENT
DTSTART;TZID=Pacific/Easter:20260409T173000
DTEND;TZID=Pacific/Easter:20260409T210000
DTSTAMP:20260419T105301
CREATED:20260331T184317Z
LAST-MODIFIED:20260331T184317Z
UID:1480-1775755800-1775768400@megaphonenc.com
SUMMARY:Make Stuff Cost Less Rally
DESCRIPTION:Join Governor Cooper in Durham for our Make Stuff Cost Less Rally as we rally around lowering costs and delivering for families across our state! \nWe are also collecting diapers\, baby wipes\, and other unused supplies at the rally to support local families in our community\, bring what you can and be part of the action.
URL:https://megaphonenc.com/event/make-stuff-cost-less-rally/
LOCATION:RSVP FOR ADDRESS
END:VEVENT
BEGIN:VEVENT
DTSTART;TZID=Pacific/Easter:20260411T140000
DTEND;TZID=Pacific/Easter:20260411T190000
DTSTAMP:20260419T105301
CREATED:20260319T184100Z
LAST-MODIFIED:20260319T184100Z
UID:1438-1775916000-1775934000@megaphonenc.com
SUMMARY:Earth to Raleigh Festival
DESCRIPTION:Let’s celebrate the earth and learn how we can protect it! Join Climate Action NC and RUMAH for our 4th Annual Earth Day festival featuring live music\, local artists\, community organizations\, fun activities for kids\, Kao Thai food truck\, Clouds Brewing on tap\, and so much more! Family friendly (including furr family)!
URL:https://megaphonenc.com/event/earth-to-raleigh-festival/
LOCATION:Clouds Brewing Taproom\, 1233 Front St.\, Raleigh\, NC\, 27609\, United States
END:VEVENT
BEGIN:VEVENT
DTSTART;TZID=Pacific/Easter:20260415T090000
DTEND;TZID=Pacific/Easter:20260415T150000
DTSTAMP:20260419T105301
CREATED:20260406T181120Z
LAST-MODIFIED:20260406T181120Z
UID:1487-1776243600-1776265200@megaphonenc.com
SUMMARY:NAACP NC State Conference Legislative Advocacy Day 2026
DESCRIPTION:NC NAACP Legislative Advocacy Day brings together members and partners from across the state to make our voices heard at the North Carolina General Assembly. This day of action is focused on direct engagement with state legislators\, lifting up priority legislation and budget issues that impact Black communities\, and uniting advocates around a coordinated\, statewide strategy during the legislative session. Together\, we show up with purpose\, clarity\, and collective power to advance justice and equity in North Carolina.
URL:https://megaphonenc.com/event/naacp-nc-state-conference-legislative-advocacy-day-2026/
LOCATION:RSVP FOR ADDRESS
END:VEVENT
BEGIN:VEVENT
DTSTART;TZID=Pacific/Easter:20260416T090000
DTEND;TZID=Pacific/Easter:20260416T100000
DTSTAMP:20260419T105301
CREATED:20260320T133741Z
LAST-MODIFIED:20260320T133741Z
UID:1453-1776330000-1776333600@megaphonenc.com
SUMMARY:ICE Defense Strategies
DESCRIPTION:Learn about immigration defense campaigns and strategies to defend our people and build power in your community. This introduction training will cover the basics of immigration defense\, including starting a neighborhood ICE watch\, building 4th Amendment Workplaces\, winning municipal resolutions and legislation to support our communities and taking on corporations enabling ICE.
URL:https://megaphonenc.com/event/ice-defense-strategies/
LOCATION:Zoom
END:VEVENT
BEGIN:VEVENT
DTSTART;TZID=Pacific/Easter:20260421T090000
DTEND;TZID=Pacific/Easter:20260421T140000
DTSTAMP:20260419T105301
CREATED:20260319T182305Z
LAST-MODIFIED:20260319T182305Z
UID:1420-1776762000-1776780000@megaphonenc.com
SUMMARY:Public Education Advocacy Day
DESCRIPTION:Join Us to Advocate for Public Schools at the North Carolina General Assembly. On day one of the North Carolina General Assembly’s short session\, we’re joining a large coalition of public-school advocacy groups to deliver a petition telling our legislators that we are done waiting! We are done waiting for them to pass a budget. We are done waiting for them to comply with the Constitution of the State of North Carolina. We are done waiting for them to fully fund our public schools and honor the Leandro Decision. We are done waiting for them to do right by our teachers\, our school support staff\, and our children! In this midterm election year\, we can’t wait any longer. They must act or we will remember in November.
URL:https://megaphonenc.com/event/public-education-advocacy-day/
LOCATION:Edenton Street United Methodist Church\, 228 W Edenton St\, Raleigh\, NC\, 27603\, United States
END:VEVENT
BEGIN:VEVENT
DTSTART;TZID=Pacific/Easter:20260428T090000
DTEND;TZID=Pacific/Easter:20260428T150000
DTSTAMP:20260419T105301
CREATED:20260313T011453Z
LAST-MODIFIED:20260313T011453Z
UID:1409-1777366800-1777388400@megaphonenc.com
SUMMARY:Advocacy Day
DESCRIPTION:Join NC Against Gun Violence Action Fund\, Moms Demand Action\, and Students Demand Action for an Advocacy Day at the NC General Assembly! We are proud to stand with partners and friends as we advocate for a safer North Carolina.
URL:https://megaphonenc.com/event/advocacy-day/
LOCATION:NC
END:VEVENT
BEGIN:VEVENT
DTSTART;TZID=Pacific/Easter:20260428T100000
DTEND;TZID=Pacific/Easter:20260428T113000
DTSTAMP:20260419T105301
CREATED:20260417T134300Z
LAST-MODIFIED:20260417T134300Z
UID:1502-1777370400-1777375800@megaphonenc.com
SUMMARY:NC Workers' Memorial Day Service
DESCRIPTION:Join us at 10am on Tuesday\, April 28th in Raleigh for a press conference and solemn memorial service during which participants will toll a bell 196 times – once for each person in North Carolina who died while working for a better life in 2024 – and will renew our fight for strong safety and health protections. \nTogether on Workers’ Memorial Day\, we raise our collective voices to win stronger safety and health protections in our workplaces and stronger job safety and health laws. We hold employers accountable to keep workers safe. We demand action on critical safety and health protections against preventable workplace hazards. We demand more resources for our nation’s job safety agencies to hold employers accountable. We demand dignity at work. And we will organize and fight for the fundamental right of every worker to a safe job until that promise is fulfilled. \nThis event is being organized with the support of NC Justice Center\, NC A. Philip Randolph Institute\, Union of Southern Service Workers\, Student Action with Farmworkers\, and others.
URL:https://megaphonenc.com/event/nc-workers-memorial-day-service/
LOCATION:Nash Square – Fallen Firefighters Memorial\, 200 South McDowell St\, Raleigh\, NC\, 27601\, United States
END:VEVENT
BEGIN:VEVENT
DTSTART;TZID=Pacific/Easter:20260429T083000
DTEND;TZID=Pacific/Easter:20260429T150000
DTSTAMP:20260419T105301
CREATED:20260319T182727Z
LAST-MODIFIED:20260319T182727Z
UID:1423-1777451400-1777474800@megaphonenc.com
SUMMARY:Asian American Advocacy Day
DESCRIPTION:Join NCAAT for Asian American Advocacy Day 2026 on Wednesday\, April 29th. This is your chance to meet directly with elected officials and champion the issues that impact our NC Asian American communities. \nNew to advocacy? No problem! We will be hosting a Lobby 101 training session on April 23rd at 6:00 PM via Zoom. Learn from our staff members\, ask questions\, feel confident about meeting with lawmakers. No experience required. \n🗓️ Save the Date: April 29\, 2026\n📍 Where: N.C. General Assembly\n🔗 Register today: Click the link in our bio or scan the QR code in the post to sign up now. \nVisit https://ncaat.org/aaad2026 to learn more. \nLet’s build a stronger\, more equitable North Carolina together. See you there! ✊🏽✊🏾✊🏻
URL:https://megaphonenc.com/event/asian-american-advocacy-day/
LOCATION:NC Capitol Grounds\, South Side\, 1 E Edenton St\, Raleigh\, NC\, 27601\, United States
END:VEVENT
BEGIN:VEVENT
DTSTART;TZID=Pacific/Easter:20260501T100000
DTEND;TZID=Pacific/Easter:20260501T150000
DTSTAMP:20260419T105301
CREATED:20260331T184538Z
LAST-MODIFIED:20260331T184538Z
UID:1483-1777629600-1777647600@megaphonenc.com
SUMMARY:NCAE May Day 2026: Workers Over Billionaires
DESCRIPTION:When billionaires and corporate interests rig the rules for themselves\, it will take more than business as usual to stop them. Every gain working people have ever won came from collective action — and May 1 is our moment to stand together again.
URL:https://megaphonenc.com/event/ncae-may-day-2026-workers-over-billionaires/
LOCATION:RSVP FOR ADDRESS
END:VEVENT
END:VCALENDAR