BEGIN:VCALENDAR
VERSION:2.0
PRODID:-//MegaphoneNC - ECPv6.15.6//NONSGML v1.0//EN
CALSCALE:GREGORIAN
METHOD:PUBLISH
X-ORIGINAL-URL:https://megaphonenc.com
X-WR-CALDESC:Events for MegaphoneNC
REFRESH-INTERVAL;VALUE=DURATION:PT1H
X-Robots-Tag:noindex
X-PUBLISHED-TTL:PT1H
BEGIN:VTIMEZONE
TZID:Pacific/Easter
BEGIN:STANDARD
TZOFFSETFROM:-0500
TZOFFSETTO:-0600
TZNAME:-06
DTSTART:20250406T030000
END:STANDARD
BEGIN:DAYLIGHT
TZOFFSETFROM:-0600
TZOFFSETTO:-0500
TZNAME:-05
DTSTART:20250907T040000
END:DAYLIGHT
BEGIN:STANDARD
TZOFFSETFROM:-0500
TZOFFSETTO:-0600
TZNAME:-06
DTSTART:20260405T030000
END:STANDARD
BEGIN:DAYLIGHT
TZOFFSETFROM:-0600
TZOFFSETTO:-0500
TZNAME:-05
DTSTART:20260906T040000
END:DAYLIGHT
BEGIN:STANDARD
TZOFFSETFROM:-0500
TZOFFSETTO:-0600
TZNAME:-06
DTSTART:20270404T030000
END:STANDARD
BEGIN:DAYLIGHT
TZOFFSETFROM:-0600
TZOFFSETTO:-0500
TZNAME:-05
DTSTART:20270905T040000
END:DAYLIGHT
END:VTIMEZONE
BEGIN:VEVENT
DTSTART;TZID=Pacific/Easter:20260211T090000
DTEND;TZID=Pacific/Easter:20260213T130000
DTSTAMP:20260419T070005
CREATED:20260209T165557Z
LAST-MODIFIED:20260209T165557Z
UID:1385-1770800400-1770987600@megaphonenc.com
SUMMARY:This Is Our Selma! — Wilson-to-Raleigh Moral March
DESCRIPTION:Repairers of the Breach is organizing and mobilizing poor and low-wage people to join a Moral March from Wilson to Raleigh and a Mass People’s Assembly in Raleigh this February! Join us as we mobilize voters to fight back against the new racist congressional map passed by the North Carolina General Assembly. This map unfairly redrew the 1st Congressional district\, taking away the voting power of Black\, Latino\, and poor and low-wage people.
URL:https://megaphonenc.com/event/this-is-our-selma-wilson-to-raleigh-moral-march/
LOCATION:NC
END:VEVENT
BEGIN:VEVENT
DTSTART;TZID=Pacific/Easter:20260211T110000
DTEND;TZID=Pacific/Easter:20260211T130000
DTSTAMP:20260419T070005
CREATED:20260114T174134Z
LAST-MODIFIED:20260114T174134Z
UID:1354-1770807600-1770814800@megaphonenc.com
SUMMARY:NCPTA and PSFNC at the NCGA
DESCRIPTION:Join NCPTA and PSFNC and many more education advocates for wEDnesdays for Public Schools. We’ll meet the second Wednesday of every month (January-April) in front of the NCGA (Legislative Building) to speak up for NC’s public schools\, our students and our educators. Bring your signs and your friends and join!
URL:https://megaphonenc.com/event/ncpta-and-psfnc-at-the-ncga/
LOCATION:NCGA\, 16 W. Jones St.\, Raleigh\, NC\, 27601\, United States
END:VEVENT
BEGIN:VEVENT
DTSTART;TZID=Pacific/Easter:20260211T183000
DTEND;TZID=Pacific/Easter:20260211T193000
DTSTAMP:20260419T070005
CREATED:20260209T170120Z
LAST-MODIFIED:20260209T170120Z
UID:1391-1770834600-1770838200@megaphonenc.com
SUMMARY:2026 Preview: NC County Board of Elections Monitoring
DESCRIPTION:County Boards of Elections are responsible for running elections in the county they serve\, from determining early voting sites to reviewing provisional ballots\, and so much more. Join us for an overview of County Board of Elections monitoring in 2026. We’ll provide a timeline of important events and discuss the many ways to get involved. With your help\, we can make voting easier and more accessible for North Carolinians from Murphy to Manteo.
URL:https://megaphonenc.com/event/2026-preview-nc-county-board-of-elections-monitoring/
LOCATION:Zoom
END:VEVENT
BEGIN:VEVENT
DTSTART;TZID=Pacific/Easter:20260211T193000
DTEND;TZID=Pacific/Easter:20260211T203000
DTSTAMP:20260419T070005
CREATED:20260209T165943Z
LAST-MODIFIED:20260209T165943Z
UID:1389-1770838200-1770841800@megaphonenc.com
SUMMARY:The Color of Law: The Forgotten History of How Our Government Segregated America
DESCRIPTION:Join February Banned Book Club as we discuss The Color of Law: The Forgotten History of How Our Government Segregated America by legal scholar Richard Rothstein. This groundbreaking book challenges the widely held belief that racial segregation in the United States was the result of private choices or economic forces. Instead\, Rothstein documents how federal\, state\, and local governments actively created and enforced segregation through laws\, policies\, and court decisions\, and how those choices continue to shape inequality today.
URL:https://megaphonenc.com/event/the-color-of-law-the-forgotten-history-of-how-our-government-segregated-america/
LOCATION:NC
END:VEVENT
END:VCALENDAR