BEGIN:VCALENDAR
VERSION:2.0
PRODID:-//MegaphoneNC - ECPv6.15.6//NONSGML v1.0//EN
CALSCALE:GREGORIAN
METHOD:PUBLISH
X-WR-CALNAME:MegaphoneNC
X-ORIGINAL-URL:https://megaphonenc.com
X-WR-CALDESC:Events for MegaphoneNC
REFRESH-INTERVAL;VALUE=DURATION:PT1H
X-Robots-Tag:noindex
X-PUBLISHED-TTL:PT1H
BEGIN:VTIMEZONE
TZID:Pacific/Easter
BEGIN:STANDARD
TZOFFSETFROM:-0500
TZOFFSETTO:-0600
TZNAME:-06
DTSTART:20250406T030000
END:STANDARD
BEGIN:DAYLIGHT
TZOFFSETFROM:-0600
TZOFFSETTO:-0500
TZNAME:-05
DTSTART:20250907T040000
END:DAYLIGHT
BEGIN:STANDARD
TZOFFSETFROM:-0500
TZOFFSETTO:-0600
TZNAME:-06
DTSTART:20260405T030000
END:STANDARD
BEGIN:DAYLIGHT
TZOFFSETFROM:-0600
TZOFFSETTO:-0500
TZNAME:-05
DTSTART:20260906T040000
END:DAYLIGHT
BEGIN:STANDARD
TZOFFSETFROM:-0500
TZOFFSETTO:-0600
TZNAME:-06
DTSTART:20270404T030000
END:STANDARD
BEGIN:DAYLIGHT
TZOFFSETFROM:-0600
TZOFFSETTO:-0500
TZNAME:-05
DTSTART:20270905T040000
END:DAYLIGHT
END:VTIMEZONE
BEGIN:VEVENT
DTSTART;TZID=Pacific/Easter:20260209T080000
DTEND;TZID=Pacific/Easter:20260209T170000
DTSTAMP:20260419T065854
CREATED:20260209T165755Z
LAST-MODIFIED:20260209T165755Z
UID:1387-1770624000-1770656400@megaphonenc.com
SUMMARY:Mass People’s Assembly and Moral March and Mobilization on Raleigh
DESCRIPTION:The Moral March and Mass People’s Assembly aren’t just single actions\, they’re a declaration of our power as poor and low-wage voters and allies across North Carolina and other states. Join us in this season of massive civic engagement\, voter education\, and mobilization as we Love Forward Together And Mobilize!
URL:https://megaphonenc.com/event/mass-peoples-assembly-and-moral-march-and-mobilization-on-raleigh/
LOCATION:NC
END:VEVENT
END:VCALENDAR