BEGIN:VCALENDAR
VERSION:2.0
PRODID:-//MegaphoneNC - ECPv6.15.6//NONSGML v1.0//EN
CALSCALE:GREGORIAN
METHOD:PUBLISH
X-WR-CALNAME:MegaphoneNC
X-ORIGINAL-URL:https://megaphonenc.com
X-WR-CALDESC:Events for MegaphoneNC
REFRESH-INTERVAL;VALUE=DURATION:PT1H
X-Robots-Tag:noindex
X-PUBLISHED-TTL:PT1H
BEGIN:VTIMEZONE
TZID:Pacific/Easter
BEGIN:STANDARD
TZOFFSETFROM:-0500
TZOFFSETTO:-0600
TZNAME:-06
DTSTART:20240407T030000
END:STANDARD
BEGIN:DAYLIGHT
TZOFFSETFROM:-0600
TZOFFSETTO:-0500
TZNAME:-05
DTSTART:20240908T040000
END:DAYLIGHT
BEGIN:STANDARD
TZOFFSETFROM:-0500
TZOFFSETTO:-0600
TZNAME:-06
DTSTART:20250406T030000
END:STANDARD
BEGIN:DAYLIGHT
TZOFFSETFROM:-0600
TZOFFSETTO:-0500
TZNAME:-05
DTSTART:20250907T040000
END:DAYLIGHT
BEGIN:STANDARD
TZOFFSETFROM:-0500
TZOFFSETTO:-0600
TZNAME:-06
DTSTART:20260405T030000
END:STANDARD
BEGIN:DAYLIGHT
TZOFFSETFROM:-0600
TZOFFSETTO:-0500
TZNAME:-05
DTSTART:20260906T040000
END:DAYLIGHT
END:VTIMEZONE
BEGIN:VEVENT
DTSTART;TZID=Pacific/Easter:20250521T100000
DTEND;TZID=Pacific/Easter:20250521T100000
DTSTAMP:20260421T033956
CREATED:20250516T174837Z
LAST-MODIFIED:20250516T174837Z
UID:638-1747821600-1747821600@megaphonenc.com
SUMMARY:Immigrant Rights Day of Action at the North Carolina General Assembly
DESCRIPTION:Defend immigrant communities and make North Carolina safer. Join us for a press conference and resource drop-offs to legislators. Then\, march with us to to deliver a letter to Governor Stein urging him to VETO all anti-immigrant legislation!\n\nShare the information with your community\, grassroots groups\, community leaders\, and organizations.
URL:https://megaphonenc.com/event/immigrant-rights-day-of-action-at-the-north-carolina-general-assembly/
LOCATION:NCGA\, 16 W. Jones St.\, Raleigh\, NC\, 27601\, United States
END:VEVENT
BEGIN:VEVENT
DTSTART;TZID=Pacific/Easter:20250521T190000
DTEND;TZID=Pacific/Easter:20250521T190000
DTSTAMP:20260421T033956
CREATED:20250516T175723Z
LAST-MODIFIED:20250516T175723Z
UID:644-1747854000-1747854000@megaphonenc.com
SUMMARY:NC TroubleMaven Academy 2.0: Class 1-Friend-to-Friend Organizing - How We'll Win!
DESCRIPTION:North Carolina needs us all stepping up right now\, and our Troublemaven Academy 2.0 is an opportunity to dive deeper into your advocacy. We’ll go deeper into how the NC General Assembly works\, about the needs of our public education system\, about overcoming your own diversity\, equity\, and inclusion blind spots\, and even how to successfully run for office! But our first session starts with a foundation for all of these things\, an introduction to friend-to-friend (relational) organizing. We’ll also show you how to take your impact to the next level using our Rally tool. Let’s go! Sign up Today! \n  \nhttps://redwine-blue.zoom.us/meeting/register/fuDrQheSTyStnCAVtNZcFg
URL:https://megaphonenc.com/event/nc-troublemaven-academy-2-0-class-1-friend-to-friend-organizing-how-well-win/
LOCATION:Virtual
END:VEVENT
BEGIN:VEVENT
DTSTART;TZID=Pacific/Easter:20250521T190000
DTEND;TZID=Pacific/Easter:20250521T190000
DTSTAMP:20260421T033956
CREATED:20250518T190427Z
LAST-MODIFIED:20250518T190427Z
UID:658-1747854000-1747854000@megaphonenc.com
SUMMARY:World Day for Cultural Diversity for Dialogue and Development
DESCRIPTION:
URL:https://megaphonenc.com/event/world-day-for-cultural-diversity-for-dialogue-and-development/
LOCATION:Forsyth Tech Community College\, 1615 Miller St.\, Winston-Salem\, NC\, 27103\, United States
END:VEVENT
END:VCALENDAR